BEGIN:VCALENDAR
VERSION:2.0
PRODID:-//Bunting Charity - ECPv5.2.0//NONSGML v1.0//EN
CALSCALE:GREGORIAN
METHOD:PUBLISH
X-WR-CALNAME:Bunting Charity
X-ORIGINAL-URL:https://www.buntingcharity.org
X-WR-CALDESC:Events for Bunting Charity
BEGIN:VTIMEZONE
TZID:America/New_York
BEGIN:DAYLIGHT
TZOFFSETFROM:-0500
TZOFFSETTO:-0400
TZNAME:EDT
DTSTART:20250309T070000
END:DAYLIGHT
BEGIN:STANDARD
TZOFFSETFROM:-0400
TZOFFSETTO:-0500
TZNAME:EST
DTSTART:20251102T060000
END:STANDARD
END:VTIMEZONE
BEGIN:VEVENT
DTSTART;TZID=America/New_York:20250530T193000
DTEND;TZID=America/New_York:20250530T213000
DTSTAMP:20260424T143712
CREATED:20190511T121433Z
LAST-MODIFIED:20250518T194655Z
UID:723-1748633400-1748640600@www.buntingcharity.org
SUMMARY:Special Communication Bunting Charity Lodge Meeting
DESCRIPTION:Special Communication : vote on candidates after review of investigation reports\, EA degree rehearsal
URL:https://www.buntingcharity.org/event/sc5302025/
LOCATION:Grand Lodge of New York\, 71 West 23rd Street\, New York\, NY\, 10010\, United States
END:VEVENT
END:VCALENDAR