BEGIN:VCALENDAR
VERSION:2.0
PRODID:-//Bunting Charity - ECPv5.2.0//NONSGML v1.0//EN
CALSCALE:GREGORIAN
METHOD:PUBLISH
X-WR-CALNAME:Bunting Charity
X-ORIGINAL-URL:https://www.buntingcharity.org
X-WR-CALDESC:Events for Bunting Charity
BEGIN:VTIMEZONE
TZID:America/New_York
BEGIN:DAYLIGHT
TZOFFSETFROM:-0500
TZOFFSETTO:-0400
TZNAME:EDT
DTSTART:20250309T070000
END:DAYLIGHT
BEGIN:STANDARD
TZOFFSETFROM:-0400
TZOFFSETTO:-0500
TZNAME:EST
DTSTART:20251102T060000
END:STANDARD
END:VTIMEZONE
BEGIN:VEVENT
DTSTART;TZID=America/New_York:20251010T193000
DTEND;TZID=America/New_York:20251010T213000
DTSTAMP:20260424T160044
CREATED:20250308T213103Z
LAST-MODIFIED:20250518T160155Z
UID:882-1760124600-1760131800@www.buntingcharity.org
SUMMARY:5th Manhattan District Deputy Grand Master Visit
DESCRIPTION:Bunting Charity Lodge will host the 5th Manhattan District Deputy Grand Master visit to Bunting Charity Lodge  at 7:30 in the Doric Room on the 8th Floor of the Grand Lodge of New York. 
URL:https://www.buntingcharity.org/event/5th-manhattan-ddgm-visit/
LOCATION:Grand Lodge of New York\, 71 West 23rd Street\, New York\, NY\, 10010\, United States
END:VEVENT
END:VCALENDAR